BEGIN:VCALENDAR
VERSION:2.0
PRODID:-//Exhorta - ECPv6.15.3//NONSGML v1.0//EN
CALSCALE:GREGORIAN
METHOD:PUBLISH
X-ORIGINAL-URL:https://exhorta.com
X-WR-CALDESC:Events for Exhorta
REFRESH-INTERVAL;VALUE=DURATION:PT1H
X-Robots-Tag:noindex
X-PUBLISHED-TTL:PT1H
BEGIN:VTIMEZONE
TZID:UTC
BEGIN:STANDARD
TZOFFSETFROM:+0000
TZOFFSETTO:+0000
TZNAME:UTC
DTSTART:20250101T000000
END:STANDARD
END:VTIMEZONE
BEGIN:VEVENT
DTSTART;TZID=UTC:20250813T113000
DTEND;TZID=UTC:20250813T121500
DTSTAMP:20260425T085641
CREATED:20250707T042456Z
LAST-MODIFIED:20250707T042456Z
UID:10000061-1755084600-1755087300@exhorta.com
SUMMARY:Combat Math Anxiety
DESCRIPTION:– Use playful\, low-stakes games (Early Family Math\, Bedtime Math).– Celebrate multiple solution methods (Modern elementary math best practices)
URL:https://exhorta.com/event/combat-math-anxiety/2025-08-13/
END:VEVENT
BEGIN:VEVENT
DTSTART;TZID=UTC:20250806T113000
DTEND;TZID=UTC:20250806T121500
DTSTAMP:20260425T085641
CREATED:20250707T042456Z
LAST-MODIFIED:20250707T042456Z
UID:10000060-1754479800-1754482500@exhorta.com
SUMMARY:Combat Math Anxiety
DESCRIPTION:– Use playful\, low-stakes games (Early Family Math\, Bedtime Math).– Celebrate multiple solution methods (Modern elementary math best practices)
URL:https://exhorta.com/event/combat-math-anxiety/2025-08-06/
END:VEVENT
BEGIN:VEVENT
DTSTART;TZID=UTC:20250804T093000
DTEND;TZID=UTC:20250804T101500
DTSTAMP:20260425T085641
CREATED:20250707T010508Z
LAST-MODIFIED:20250707T033441Z
UID:10000005-1754299800-1754302500@exhorta.com
SUMMARY:Math Mondays
DESCRIPTION:Are you tired of tracking the wrong things—or nothing at all? Momentum Metrics™ helps you identify one powerful\, personalized metric that keeps you focused\, accountable\, and moving forward.
URL:https://exhorta.com/event/momentum-mondays/2025-08-04/
LOCATION:
END:VEVENT
BEGIN:VEVENT
DTSTART;TZID=UTC:20250730T113000
DTEND;TZID=UTC:20250730T121500
DTSTAMP:20260425T085641
CREATED:20250707T042456Z
LAST-MODIFIED:20250707T042456Z
UID:10000059-1753875000-1753877700@exhorta.com
SUMMARY:Combat Math Anxiety
DESCRIPTION:– Use playful\, low-stakes games (Early Family Math\, Bedtime Math).– Celebrate multiple solution methods (Modern elementary math best practices)
URL:https://exhorta.com/event/combat-math-anxiety/2025-07-30/
END:VEVENT
BEGIN:VEVENT
DTSTART;TZID=UTC:20250728T093000
DTEND;TZID=UTC:20250728T101500
DTSTAMP:20260425T085641
CREATED:20250707T010508Z
LAST-MODIFIED:20250707T033441Z
UID:10000004-1753695000-1753697700@exhorta.com
SUMMARY:Math Mondays
DESCRIPTION:Are you tired of tracking the wrong things—or nothing at all? Momentum Metrics™ helps you identify one powerful\, personalized metric that keeps you focused\, accountable\, and moving forward.
URL:https://exhorta.com/event/momentum-mondays/2025-07-28/
LOCATION:
END:VEVENT
BEGIN:VEVENT
DTSTART;TZID=UTC:20250723T113000
DTEND;TZID=UTC:20250723T121500
DTSTAMP:20260425T085641
CREATED:20250707T042456Z
LAST-MODIFIED:20250707T042456Z
UID:10000058-1753270200-1753272900@exhorta.com
SUMMARY:Combat Math Anxiety
DESCRIPTION:– Use playful\, low-stakes games (Early Family Math\, Bedtime Math).– Celebrate multiple solution methods (Modern elementary math best practices)
URL:https://exhorta.com/event/combat-math-anxiety/2025-07-23/
END:VEVENT
BEGIN:VEVENT
DTSTART;TZID=UTC:20250721T093000
DTEND;TZID=UTC:20250721T101500
DTSTAMP:20260425T085641
CREATED:20250707T010508Z
LAST-MODIFIED:20250707T033441Z
UID:10000003-1753090200-1753092900@exhorta.com
SUMMARY:Math Mondays
DESCRIPTION:Are you tired of tracking the wrong things—or nothing at all? Momentum Metrics™ helps you identify one powerful\, personalized metric that keeps you focused\, accountable\, and moving forward.
URL:https://exhorta.com/event/momentum-mondays/2025-07-21/
LOCATION:
END:VEVENT
BEGIN:VEVENT
DTSTART;TZID=UTC:20250714T093000
DTEND;TZID=UTC:20250714T101500
DTSTAMP:20260425T085641
CREATED:20250707T010508Z
LAST-MODIFIED:20250707T033441Z
UID:10000002-1752485400-1752488100@exhorta.com
SUMMARY:Math Mondays
DESCRIPTION:Are you tired of tracking the wrong things—or nothing at all? Momentum Metrics™ helps you identify one powerful\, personalized metric that keeps you focused\, accountable\, and moving forward.
URL:https://exhorta.com/event/momentum-mondays/2025-07-14/
LOCATION:
END:VEVENT
BEGIN:VEVENT
DTSTART;TZID=UTC:20250711T173000
DTEND;TZID=UTC:20250711T181500
DTSTAMP:20260425T085641
CREATED:20250707T044112Z
LAST-MODIFIED:20250707T044232Z
UID:10000063-1752255000-1752257700@exhorta.com
SUMMARY:Back-to-School Parent Courses
DESCRIPTION:“Empowering Families This Fall”\n“This school year\, we’re equipping families with tools to thrive—in math\, in learning\, and in life.”
URL:https://exhorta.com/event/back-to-school-parent-courses/
END:VEVENT
END:VCALENDAR